BEGIN:VCALENDAR
VERSION:2.0
PRODID:-//IFC - International Fortress Council - ECPv6.15.11//NONSGML v1.0//EN
CALSCALE:GREGORIAN
METHOD:PUBLISH
X-WR-CALNAME:IFC - International Fortress Council
X-ORIGINAL-URL:https://internationalfortresscouncil.org
X-WR-CALDESC:Évènements pour IFC - International Fortress Council
REFRESH-INTERVAL;VALUE=DURATION:PT1H
X-Robots-Tag:noindex
X-PUBLISHED-TTL:PT1H
BEGIN:VTIMEZONE
TZID:Europe/Paris
BEGIN:DAYLIGHT
TZOFFSETFROM:+0100
TZOFFSETTO:+0200
TZNAME:CEST
DTSTART:20240331T010000
END:DAYLIGHT
BEGIN:STANDARD
TZOFFSETFROM:+0200
TZOFFSETTO:+0100
TZNAME:CET
DTSTART:20241027T010000
END:STANDARD
BEGIN:DAYLIGHT
TZOFFSETFROM:+0100
TZOFFSETTO:+0200
TZNAME:CEST
DTSTART:20250330T010000
END:DAYLIGHT
BEGIN:STANDARD
TZOFFSETFROM:+0200
TZOFFSETTO:+0100
TZNAME:CET
DTSTART:20251026T010000
END:STANDARD
BEGIN:DAYLIGHT
TZOFFSETFROM:+0100
TZOFFSETTO:+0200
TZNAME:CEST
DTSTART:20260329T010000
END:DAYLIGHT
BEGIN:STANDARD
TZOFFSETFROM:+0200
TZOFFSETTO:+0100
TZNAME:CET
DTSTART:20261025T010000
END:STANDARD
END:VTIMEZONE
BEGIN:VEVENT
DTSTART;TZID=Europe/Paris:20250611T080000
DTEND;TZID=Europe/Paris:20250614T170000
DTSTAMP:20260421T064606
CREATED:20251017T111222Z
LAST-MODIFIED:20251017T111222Z
UID:240-1749628800-1749920400@internationalfortresscouncil.org
SUMMARY:Annual Congress
DESCRIPTION:
URL:https://internationalfortresscouncil.org/event/annual-congress/
LOCATION:Marseille\, France
CATEGORIES:Calendar
ORGANIZER;CN="Association Vauban":MAILTO:ontact@association-vauban.org
END:VEVENT
END:VCALENDAR