BEGIN:VCALENDAR
VERSION:2.0
PRODID:-//IFC - International Fortress Council - ECPv6.15.11//NONSGML v1.0//EN
CALSCALE:GREGORIAN
METHOD:PUBLISH
X-ORIGINAL-URL:https://internationalfortresscouncil.org
X-WR-CALDESC:Évènements pour IFC - International Fortress Council
REFRESH-INTERVAL;VALUE=DURATION:PT1H
X-Robots-Tag:noindex
X-PUBLISHED-TTL:PT1H
BEGIN:VTIMEZONE
TZID:Europe/Paris
BEGIN:DAYLIGHT
TZOFFSETFROM:+0100
TZOFFSETTO:+0200
TZNAME:CEST
DTSTART:20250330T010000
END:DAYLIGHT
BEGIN:STANDARD
TZOFFSETFROM:+0200
TZOFFSETTO:+0100
TZNAME:CET
DTSTART:20251026T010000
END:STANDARD
BEGIN:DAYLIGHT
TZOFFSETFROM:+0100
TZOFFSETTO:+0200
TZNAME:CEST
DTSTART:20260329T010000
END:DAYLIGHT
BEGIN:STANDARD
TZOFFSETFROM:+0200
TZOFFSETTO:+0100
TZNAME:CET
DTSTART:20261025T010000
END:STANDARD
BEGIN:DAYLIGHT
TZOFFSETFROM:+0100
TZOFFSETTO:+0200
TZNAME:CEST
DTSTART:20270328T010000
END:DAYLIGHT
BEGIN:STANDARD
TZOFFSETFROM:+0200
TZOFFSETTO:+0100
TZNAME:CET
DTSTART:20271031T010000
END:STANDARD
END:VTIMEZONE
BEGIN:VEVENT
DTSTART;VALUE=DATE:20260505
DTEND;VALUE=DATE:20260511
DTSTAMP:20260420T095335
CREATED:20260405T150755Z
LAST-MODIFIED:20260405T160239Z
UID:645-1777939200-1778457599@internationalfortresscouncil.org
SUMMARY:CDSG Annual Conference to the Coast Defenses of the Oahu\, Hawai
DESCRIPTION:visit of Oahu fortifications\, and some defences and batteries\, www.cdsg.org/shop to select the 2026 Annual Conference item and pay by credit card or PayPal your registration fee. Contact for ques􀆟ons: Terry McGovern 571-228-4193
URL:https://internationalfortresscouncil.org/event/cdsg-annual-conference-to-the-coast-defenses-of-the-oahu-hawai/
LOCATION:Hawaii
CATEGORIES:Calendar
END:VEVENT
BEGIN:VEVENT
DTSTART;VALUE=DATE:20260507
DTEND;VALUE=DATE:20260509
DTSTAMP:20260420T095335
CREATED:20260405T151251Z
LAST-MODIFIED:20260405T155431Z
UID:649-1778112000-1778284799@internationalfortresscouncil.org
SUMMARY:IFC and Monumentenbezit\, International Symposium
DESCRIPTION:Histroy and typology of fortifications\,
URL:https://internationalfortresscouncil.org/event/ifc-and-monumentenbezit-international-symposium/
LOCATION:Naarden
CATEGORIES:Calendar
END:VEVENT
BEGIN:VEVENT
DTSTART;VALUE=DATE:20260530
DTEND;VALUE=DATE:20260601
DTSTAMP:20260420T095335
CREATED:20260405T153110Z
LAST-MODIFIED:20260405T155359Z
UID:653-1780099200-1780271999@internationalfortresscouncil.org
SUMMARY:ASMEM : Study Tour in Franche Comté
DESCRIPTION:
URL:https://internationalfortresscouncil.org/event/asmem-study-tour/
LOCATION:Franche Comté
CATEGORIES:Calendar
END:VEVENT
END:VCALENDAR